BEGIN:VCALENDAR
VERSION:2.0
PRODID:-//Barterra Winery - ECPv6.15.20//NONSGML v1.0//EN
CALSCALE:GREGORIAN
METHOD:PUBLISH
X-WR-CALNAME:Barterra Winery
X-ORIGINAL-URL:https://www.barterrawinery.com
X-WR-CALDESC:Events for Barterra Winery
REFRESH-INTERVAL;VALUE=DURATION:PT1H
X-Robots-Tag:noindex
X-PUBLISHED-TTL:PT1H
BEGIN:VTIMEZONE
TZID:America/Los_Angeles
BEGIN:DAYLIGHT
TZOFFSETFROM:-0800
TZOFFSETTO:-0700
TZNAME:PDT
DTSTART:20240310T100000
END:DAYLIGHT
BEGIN:STANDARD
TZOFFSETFROM:-0700
TZOFFSETTO:-0800
TZNAME:PST
DTSTART:20241103T090000
END:STANDARD
BEGIN:DAYLIGHT
TZOFFSETFROM:-0800
TZOFFSETTO:-0700
TZNAME:PDT
DTSTART:20250309T100000
END:DAYLIGHT
BEGIN:STANDARD
TZOFFSETFROM:-0700
TZOFFSETTO:-0800
TZNAME:PST
DTSTART:20251102T090000
END:STANDARD
BEGIN:DAYLIGHT
TZOFFSETFROM:-0800
TZOFFSETTO:-0700
TZNAME:PDT
DTSTART:20260308T100000
END:DAYLIGHT
BEGIN:STANDARD
TZOFFSETFROM:-0700
TZOFFSETTO:-0800
TZNAME:PST
DTSTART:20261101T090000
END:STANDARD
END:VTIMEZONE
BEGIN:VEVENT
DTSTART;TZID=America/Los_Angeles:20250915T180000
DTEND;TZID=America/Los_Angeles:20250915T193000
DTSTAMP:20260419T130738
CREATED:20250909T005844Z
LAST-MODIFIED:20250914T165129Z
UID:4544-1757959200-1757964600@www.barterrawinery.com
SUMMARY:Tuscan Wine Experience w/ Tenuta Torciano Winery
DESCRIPTION:This event is sold out for Monday\, September 15.  Please email cheers@barterrawinery.com if you’d like to be added to the waitlist and we will notify you if there are any cancellations by 3 pm on Monday\, September 15. \nJoin us on Monday\, September 15 at 6 pm for a special Tuscan Wine Experience featuring Tenuta Torciano Winery. \nExperience a Taste of the Good Life and Wine from Torciano Winery\nThe best things in life are the experiences we share\, savor\, and discover. Nowhere is that more apparent than in Torciano Winery\, where anyone – and everyone – can experience a taste of the Tuscan life. \nEach guest will be guided through a tasting by a wine instructor from Torciano Winery and will have appetizers to accompany the wine tasting\, including: salami\, cheese\, bread\, hummus\, vegetables\, and more. \nTickets are limited and can be purchased here
URL:https://www.barterrawinery.com/calendar/tuscan-wine-experience-w-tenuta-torciano-winery/
LOCATION:CA
CATEGORIES:Special Event
ATTACH;FMTTYPE=image/png:https://www.barterrawinery.com/wp-content/uploads/2025/09/Tenuta-Torciano-Square-Image-Sold-Out.png
END:VEVENT
END:VCALENDAR